BEGIN:VCALENDAR
VERSION:2.0
PRODID:-//hacksw/handcal//NONSGML v1.0//EN
CALSCALE:GREGORIAN
BEGIN:VEVENT
LOCATION:30827
DESCRIPTION:<strong> Motorradbeschreibung / Basisdaten</strong><br />
<ul>

<li><strong>Marke &amp\; Modell</strong>: Ducati Diavel V4</li>
<li><strong
>Baujahr / Erstzulassung</strong>: 2023 / 01.03.2023</li>
<li><strong>Kilom
eterstand</strong>: 3040 km</li>
<li><strong>Anzahl Vorbesitzer</strong>: 2
</li>
<li><strong>Anzahl Schlüssel</strong>: 2</li>
<li><strong>Servicehef
t / Wartungsunterlagen</strong>: vorhanden</li>
<li><strong>TÜV / HU &amp\
; AU</strong>: gültig bis 03.27</li>
</ul>
<strong> Technische Daten</stro
ng><br />
<ul>
<li><strong>Hubraum</strong>: 1158 ccm</li>
<li><strong>Leis
tung</strong>: 124 kW / 169 PS</li>
<li><strong>Leergewicht</strong>: 223 k
g</li>
<li><strong>Tankinhalt</strong>: 20 Liter</li>
<li><strong>Rahmen- /
 Fahrgestellnummer (FIN)</strong>: ZDM3G00AAPB000400</li>
</ul>
<strong> W
artungs- &amp\; Zustandshistorie</strong><br />
<ul>
<li><strong>Letzter Ö
lwechsel</strong>: bei ca. 1900 km in 2024</li>
</ul>
<strong> Reifen &amp\
; Antrieb</strong><br />
<ul>
<li><strong>Bereifung – vorne</strong>:
<ul
>
<li>Reifenhersteller &amp\; Modell: Pirelli Rosso 3</li>
<li>Profiltiefe 
(gemessen): 3\,5 mm</li>
<li>Alter des Reifens (DOT): 37/22</li>
</ul>
</li
>
<li><strong>Bereifung – hinten</strong>:
<ul>
<li>Reifenhersteller &amp
\; Modell: Pirelli Rosso 3</li>
<li>Profiltiefe (gemessen):  4 mm</li>
<l
i>Alter des Reifens (DOT): 40/22</li>
</ul>
</li>
<li><strong>Kettenantrieb
 / Riemenantrieb / Kardan</strong>:
<ul>
<li>Kettenzustand: Verschleiß ger
ing</li>
<li>Ritzelzustand: Zustand vorne und hinten: Gut</li>
</ul>
</li>

</ul>
<strong> Karosserie &amp\; Rahmenschäden</strong><br />
<ul>
<li><st
rong>Verkleidung</strong>: leichte Kratzer</li>
</ul>
<strong> Unfall- / St
urzhistorie</strong><br />
<ul>
<li><strong>Unfälle</strong>: das Motorrad
 war …
<ul>
<li>nicht in größeren Unfällen oder Umfallern verwickelt</
li>
</ul>
</li>
</ul>
<br /><strong> Besichtigungs- &amp\; Probefahrts-Info
rmationen</strong><br />
<ul>
<li><strong>Händler &amp\; Standort</strong>
: ITALMOTO Vertriebs GmbH / 30827 Garbsen</li>
<li><strong>Besichtigung</st
rong>: möglich nach Absprache</li>
<li><strong>Probefahrt</strong>: mögli
ch unter folgenden Bedingungen: Vorlage Führerschein &amp\; Personalauswei
s\, 2.000€ Selbstbeteiligung im Schadensfall</li>
<li><strong>Transport /
 Abholung</strong>: Abholung durch Käufer bevorzugt\; Transportorganisatio
n nach Absprache per Spedition.</li>
</ul>
<strong> Rechtliches &amp\; Haft
ungsausschluss</strong><br />
<ul>
<li><strong>Geboten wird auf Basis “wi
e gesehen”</strong>: Das Motorrad wird im aktuellen Zustand versteigert\,
 ohne zusätzliche Garantien.</li>
<li><strong>Irrtümer &amp\; Zwischenver
kauf</strong>: Der Verkäufer behält sich ausdrücklich vor\, das Fahrzeug
 vor Auktionsende zu verkaufen oder das Inserat zurückzuziehen.</li>
<li>D
er Verkauf richtet sich an gewerbliche Käufer und erfolgt <strong>ohne Gew
ährleistung</strong>.</li>
<li>Der Verkäufer übernimmt keine Haftung fü
r Folgeschäden\, die nach dem Verkauf auftreten könnten.</li>
<li><strong
>Alle gemachten Angaben beruhen auf dem derzeitigen Kenntnisstand</strong>\
; Irrtümer\, Schreibfehler oder unbeabsichtigte Auslassungen sind vorbehal
ten.</li>
<li>Handelt es sich bei dem Fahrzeug um ein angemeldetes Vorführ
modell kann der <strong>Kilometerstand abweichen</strong>.</li>
<li><strong
>Übergabe</strong>: Bei vollständiger Bezahlung erfolgt die Übergabe des
 Motorrads mit allen vorhandenen Papieren.</li>
</ul>
DTSTART:20260408T102001Z
SUMMARY:Ducati Diavel V4
URL;VALUE=URI:https://www.motorrad-auktion.de/gebrauchtfahrzeuge/ducati-dia
vel-v4--id-12-item.html
DTEND:20260429T080436Z
DTSTAMP:20260422T214924Z
UID:69e92644321f6
END:VEVENT
END:VCALENDAR