BEGIN:VCALENDAR
VERSION:2.0
PRODID:-//hacksw/handcal//NONSGML v1.0//EN
CALSCALE:GREGORIAN
BEGIN:VEVENT
LOCATION:30827
DESCRIPTION:<strong> Motorradbeschreibung / Basisdaten</strong><br />
<ul>

<li><strong>Marke &amp\; Modell</strong>: Ducati Multistrada 1260 S</li>
<l
i><strong>Baujahr / Erstzulassung</strong>: 2020 / 06.02.2020</li>
<li><str
ong>Kilometerstand</strong>: 21671 km</li>
<li><strong>Anzahl Vorbesitzer</
strong>: 2</li>
<li><strong>Anzahl Schlüssel</strong>: 2</li>
<li><strong>
Serviceheft / Wartungsunterlagen</strong>: vorhanden</li>
<li><strong>TÜV 
/ HU &amp\; AU</strong>: gültig bis</li>
</ul>
<strong> Technische Daten</
strong><br />
<ul>
<li><strong>Hubraum</strong>: 1262 ccm</li>
<li><strong>
Leistung</strong>: 116 kW / 158 PS</li>
<li><strong>Leergewicht</strong>: 2
12 kg</li>
<li><strong>Tankinhalt</strong>: 20 Liter</li>
<li><strong>Rahme
n- / Fahrgestellnummer (FIN)</strong>: ZDMAC00AALB014503</li>
</ul>
<stron
g> Wartungs- &amp\; Zustandshistorie</strong><br />
<ul>
<li><strong>Letzte
r Ölwechsel</strong>: bei 21.582 km im März 2025</li>
<li><strong>Letzter
 Zahnriemen / Kettenwechsel</strong>: bei ca. [km / Datum]</li>
<li><strong
>Bremsen</strong>:
<ul>
<li><strong>Vorne</strong>: Zustand Beläge &amp\; 
Scheiben  mittel </li>
<li><strong>Hinten</strong>: Zustand Beläge &amp\
; Scheibe mittel </li>
</ul>
</li>
</ul>
<strong> Reifen &amp\; Antrieb</s
trong><br />
<ul>
<li><strong>Bereifung – vorne</strong>:
<ul>
<li>Reifen
hersteller &amp\; Modell: Pirelli Scorpion Trail II</li>
<li>Profiltiefe (g
emessen): 4 mm</li>
<li>Alter des Reifens (DOT): 22/24</li>
</ul>
</li>
<li
><strong>Bereifung – hinten</strong>:
<ul>
<li>Reifenhersteller &amp\; Mo
dell: Pirelli Scorpion Trail II</li>
<li>Profiltiefe (gemessen): 6 mm</li>

<li>Alter des Reifens (DOT): 13/24</li>
</ul>
</li>
<li><strong>Kettenantr
ieb / Riemenantrieb / Kardan</strong>:
<ul>
<li>Kettenzustand: Spannung hoc
h\, Verschleiß gering</li>
<li>Ritzelzustand: Zustand vorne und hinten: Gu
t</li>
</ul>
</li>
</ul>
<br /><strong> Unfall- / Sturzhistorie</strong><br
 />
<ul>
<li><strong>Unfälle</strong>: das Motorrad war …
<ul>
<li>nicht
 in Unfällen oder Umfaller verwickelt</li>
</ul>
</li>
</ul>
<strong> Zus
tzliche Ausstattung / Modifikationen</strong><br />
<ul>
<li><strong>Zubeh
ör</strong>: Protektoren\, Schutzbügel\, Gabelschutz\, Ständerplatte</li
>
</ul>
<strong> Besichtigungs- &amp\; Probefahrts-Informationen</strong><b
r />
<ul>
<li><strong>Händler &amp\; Standort</strong>: ITALMOTO Vertriebs
 GmbH / 30827 Garbsen</li>
<li><strong>Besichtigung</strong>: möglich nach
 Absprache</li>
<li><strong>Probefahrt</strong>: möglich unter folgenden B
edingungen: Vorlage Führerschein &amp\; Personalausweis\, 2.000€ Selbstb
eteiligung im Schadensfall</li>
<li><strong>Transport / Abholung</strong>: 
Abholung durch Käufer bevorzugt\; Transportorganisation nach Absprache per
 Spedition.</li>
</ul>
<strong> Rechtliches &amp\; Haftungsausschluss</stro
ng><br />
<ul>
<li><strong>Geboten wird auf Basis “wie gesehen”</strong
>: Das Motorrad wird im aktuellen Zustand versteigert\, ohne zusätzliche G
arantien.</li>
<li><strong>Irrtümer &amp\; Zwischenverkauf</strong>: Der V
erkäufer behält sich ausdrücklich vor\, das Fahrzeug vor Auktionsende zu
 verkaufen oder das Inserat zurückzuziehen.</li>
<li>Der Verkauf richtet s
ich an gewerbliche Käufer und erfolgt <strong>ohne Gewährleistung</strong
>.</li>
<li>Der Verkäufer übernimmt keine Haftung für Folgeschäden\, di
e nach dem Verkauf auftreten könnten.</li>
<li><strong>Alle gemachten Anga
ben beruhen auf dem derzeitigen Kenntnisstand</strong>\; Irrtümer\, Schrei
bfehler oder unbeabsichtigte Auslassungen sind vorbehalten.</li>
<li>Handel
t es sich bei dem Fahrzeug um ein angemeldetes Vorführmodell kann der <str
ong>Kilometerstand abweichen</strong>.</li>
<li><strong>Übergabe</strong>:
 Bei vollständiger Bezahlung erfolgt die Übergabe des Motorrads mit allen
 vorhandenen Papieren.</li>
</ul>
DTSTART:20260420T103109Z
SUMMARY:Ducati Multistrada 1260 S
URL;VALUE=URI:https://www.motorrad-auktion.de/gebrauchtfahrzeuge/ducati-mul
tistrada-1260-s--id-25-item.html
DTEND:20260511T074533Z
DTSTAMP:20260422T230327Z
UID:69e9379f86adc
END:VEVENT
END:VCALENDAR