BEGIN:VCALENDAR
VERSION:2.0
PRODID:-//hacksw/handcal//NONSGML v1.0//EN
CALSCALE:GREGORIAN
BEGIN:VEVENT
LOCATION:30827
DESCRIPTION:<strong> Motorradbeschreibung / Basisdaten</strong><br />
<ul>

<li><strong>Marke &amp\; Modell</strong>: Ducati Supersport 939</li>
<li><s
trong>Baujahr / Erstzulassung</strong>: 2019 / 28.09.2018</li>
<li><strong>
Kilometerstand</strong>: 14002 km</li>
<li><strong>Anzahl Vorbesitzer</stro
ng>: 2</li>
<li><strong>Anzahl Schlüssel</strong>: 2</li>
<li><strong>Serv
iceheft / Wartungsunterlagen</strong>: vorhanden</li>
<li><strong>TÜV / HU
 &amp\; AU</strong>: gültig bis 10.26</li>
</ul>
<strong> Technische Daten
</strong><br />
<ul>
<li><strong>Hubraum</strong>: 937 ccm</li>
<li><strong
>Leistung</strong>: 80 kW / 110 PS</li>
<li><strong>Leergewicht</strong>: 2
10 kg fahrfertig</li>
<li><strong>Tankinhalt</strong>: 16 Liter</li>
<li><s
trong>Rahmen- / Fahrgestellnummer (FIN)</strong>: ZDMVA00AAKB007085</li>
<
/ul>
<strong> Wartungs- &amp\; Zustandshistorie</strong><br />
<ul>
<li><st
rong>Letzter Service</strong>: bei 13.278 km</li>
<li><strong>Fahrwerk</str
ong>:
<ul>
<li><strong>Gabel</strong>: rechts leicht Ölfeucht</li>
</ul>
<
/li>
</ul>
<strong> Reifen &amp\; Antrieb</strong><br />
<ul>
<li><strong>B
ereifung – vorne</strong>:
<ul>
<li>Reifenhersteller &amp\; Modell: Pirel
li Diablo Rosso III</li>
<li>Profiltiefe (gemessen): 3 mm</li>
<li>Alter de
s Reifens (DOT): 11/18</li>
</ul>
</li>
<li><strong>Bereifung – hinten</s
trong>:
<ul>
<li>Reifenhersteller &amp\; Modell: Pirelli Diablo Rosso III<
/li>
<li>Profiltiefe (gemessen):  3\,5 mm</li>
<li>Alter des Reifens (DOT)
: 09/18</li>
</ul>
</li>
<li><strong>Kettenantrieb / Riemenantrieb / Kardan
</strong>:
<ul>
<li>Kettenzustand: Spannung hoch\, Verschleiß mittel</li>

<li>Ritzelzustand: Zustand vorne und hinten: Verschleiß mittel</li>
</ul>

</li>
</ul>
<strong> Karosserie &amp\; Rahmenschäden</strong><br />
<ul>
<
li><strong>Windschutz / Verkleidungsanbauteile</strong>: Kratzer in Scheibe
</li>
</ul>
<strong> Unfall- / Sturzhistorie</strong><br />
<ul>
<li><stron
g>Unfälle</strong>: das Motorrad war …
<ul>
<li>nicht in Unfällen oder 
Umfallern verwickelt</li>
</ul>
</li>
</ul>
<strong> Zusätzliche Ausstattu
ng / Modifikationen</strong><br />
<ul>
<li><strong>Zubehör</strong>: Kurz
er Kennzeichenhalter\, Duc Performance Blinker\, QD Auspuff</li>
</ul>
<str
ong> Besichtigungs- &amp\; Probefahrts-Informationen</strong><br />
<ul>
<l
i><strong>Händler &amp\; Standort</strong>: ITALMOTO Vertriebs GmbH / 3082
7 Garbsen</li>
<li><strong>Besichtigung</strong>: möglich nach Absprache</
li>
<li><strong>Probefahrt</strong>: möglich unter folgenden Bedingungen: 
Vorlage Führerschein &amp\; Personalausweis\, 2.000€ Selbstbeteiligung i
m Schadensfall</li>
<li><strong>Transport / Abholung</strong>: Abholung dur
ch Käufer bevorzugt\; Transportorganisation nach Absprache per Spedition.<
/li>
</ul>
<strong> Rechtliches &amp\; Haftungsausschluss</strong><br />
<u
l>
<li><strong>Geboten wird auf Basis “wie gesehen”</strong>: Das Motor
rad wird im aktuellen Zustand versteigert\, ohne zusätzliche Garantien.</l
i>
<li><strong>Irrtümer &amp\; Zwischenverkauf</strong>: Der Verkäufer be
hält sich ausdrücklich vor\, das Fahrzeug vor Auktionsende zu verkaufen o
der das Inserat zurückzuziehen.</li>
<li>Der Verkauf richtet sich an gewer
bliche Käufer und erfolgt <strong>ohne Gewährleistung</strong>.</li>
<li>
Der Verkäufer übernimmt keine Haftung für Folgeschäden\, die nach dem V
erkauf auftreten könnten.</li>
<li><strong>Alle gemachten Angaben beruhen 
auf dem derzeitigen Kenntnisstand</strong>\; Irrtümer\, Schreibfehler oder
 unbeabsichtigte Auslassungen sind vorbehalten.</li>
<li>Handelt es sich be
i dem Fahrzeug um ein angemeldetes Vorführmodell kann der <strong>Kilomete
rstand abweichen</strong>.</li>
<li><strong>Übergabe</strong>: Bei vollst
ndiger Bezahlung erfolgt die Übergabe des Motorrads mit allen vorhandenen
 Papieren.</li>
</ul>
DTSTART:20260420T103217Z
SUMMARY:Ducati Supersport 939
URL;VALUE=URI:https://www.motorrad-auktion.de/gebrauchtfahrzeuge/ducati-sup
ersport-939--id-26-item.html
DTEND:20260511T070120Z
DTSTAMP:20260422T211911Z
UID:69e91f2fa13be
END:VEVENT
END:VCALENDAR