BEGIN:VCALENDAR
VERSION:2.0
PRODID:-//hacksw/handcal//NONSGML v1.0//EN
CALSCALE:GREGORIAN
BEGIN:VEVENT
LOCATION:30827
DESCRIPTION:<p><strong>Motorradbeschreibung / Basisdaten</strong></p>
<ul>

<li><strong>Marke &amp\; Modell</strong>: Vespa Primavera 50 Mickey Maus</l
i>
<li><strong>Baujahr</strong>: 2023</li>
<li><strong>Kilometerstand</stro
ng>: 0 km</li>
<li><strong>Anzahl Schlüssel</strong>: 2</li>
<li><strong>T
ÜV / HU &amp\; AU</strong>: ab Erstzulassung</li>
</ul>
<p><strong>Technis
che Daten</strong></p>
<ul>
<li><strong>Hubraum</strong>: 50 ccm</li>
<li><
strong>Leistung</strong>: 2\,4 kW / 3 PS</li>
<li><strong>Leergewicht</stro
ng>: 118 kg</li>
<li><strong>Tankinhalt</strong>: 7\,5 Liter</li>
<li><stro
ng>Rahmen- / Fahrgestellnummer (FIN)</strong>: ZAPCD010000042758</li>
</ul
>
<br />
<p><strong>Besichtigungs- &amp\; Probefahrts-Informationen</strong
></p>
<ul>
<li><strong>Händler &amp\; Standort</strong>: ITALMOTO Vertrieb
s GmbH / 30827 Garbsen</li>
<li><strong>Besichtigung</strong>: möglich nac
h Absprache</li>
<li><strong>Transport / Abholung</strong>: Abholung durch 
Käufer bevorzugt\; Transportorganisation nach Absprache per Spedition.</li
>
</ul>
<p><strong>Rechtliches &amp\; Haftungsausschluss</strong></p>
<ul>

<li><strong>Geboten wird auf Basis “wie gesehen”</strong>: Das Motorrad
 wird im aktuellen Zustand mit geltender Herstellergarantie versteigert.</l
i>
<li><strong>Irrtümer &amp\; Zwischenverkauf</strong>: Der Verkäufer be
hält sich ausdrücklich vor\, das Fahrzeug vor Auktionsende zu verkaufen o
der das Inserat zurückzuziehen.</li>
<li>Der Verkauf richtet sich an gewer
bliche Käufer und erfolgt <strong>ohne Gewährleistung</strong>.</li>
<li>
Der Verkäufer übernimmt keine Haftung für Folgeschäden\, die nach dem V
erkauf auftreten könnten.</li>
<li><strong>Alle gemachten Angaben beruhen 
auf dem derzeitigen Kenntnisstand</strong>\; Irrtümer\, Schreibfehler oder
 unbeabsichtigte Auslassungen sind vorbehalten.</li>
<li><strong>Übergabe<
/strong>: Bei vollständiger Bezahlung erfolgt die Übergabe des Motorrads 
mit allen vorhandenen Papieren.</li>
</ul>
DTSTART:20260420T103301Z
SUMMARY:Vespa Primavera 50 Disney Mickey Mouse Edition
URL;VALUE=URI:https://www.motorrad-auktion.de/neufahrzeuge/vespa-primavera-
50-disney-mickey-mouse-edition--id-27-item.html
DTEND:20260511T093157Z
DTSTAMP:20260422T230327Z
UID:69e9379f64368
END:VEVENT
END:VCALENDAR