BEGIN:VCALENDAR
VERSION:2.0
PRODID:-//hacksw/handcal//NONSGML v1.0//EN
CALSCALE:GREGORIAN
BEGIN:VEVENT
LOCATION:30827
DESCRIPTION:<p><strong>Motorradbeschreibung / Basisdaten</strong></p>
<ul>

<li><strong>Marke &amp\; Modell</strong>: Vespa GTV 300 Sei Giorni</li>
<li
><strong>Baujahr</strong>: 2023</li>
<li><strong>Kilometerstand</strong>: 0
 km</li>
<li><strong>Anzahl Schlüssel</strong>: 2</li>
<li><strong>TÜV / 
HU &amp\; AU</strong>: ab Erstzulassung</li>
</ul>
<p><strong>Technische Da
ten</strong></p>
<ul>
<li><strong>Hubraum</strong>: 278 ccm</li>
<li><stron
g>Leistung</strong>: 18 kW / 24 PS</li>
<li><strong>Leergewicht</strong>: 1
63 kg</li>
<li><strong>Tankinhalt</strong>: 8\,5 Liter</li>
<li><strong>Rah
men- / Fahrgestellnummer (FIN)</strong>: ZAPMD310800002782</li>
</ul>
<br 
/>
<p><strong>Besichtigungs- &amp\; Probefahrts-Informationen</strong></p>

<ul>
<li><strong>Händler &amp\; Standort</strong>: ITALMOTO Vertriebs GmbH
 / 30827 Garbsen</li>
<li><strong>Besichtigung</strong>: möglich nach Absp
rache</li>
<li><strong>Transport / Abholung</strong>: Abholung durch Käufe
r bevorzugt\; Transportorganisation nach Absprache per Spedition.</li>
</ul
>
<p><strong>Rechtliches &amp\; Haftungsausschluss</strong></p>
<ul>
<li><s
trong>Geboten wird auf Basis “wie gesehen”</strong>: Das Motorrad wird 
im aktuellen Zustand mit geltender Herstellergarantie versteigert.</li>
<li
><strong>Irrtümer &amp\; Zwischenverkauf</strong>: Der Verkäufer behält 
sich ausdrücklich vor\, das Fahrzeug vor Auktionsende zu verkaufen oder da
s Inserat zurückzuziehen.</li>
<li>Der Verkauf richtet sich an gewerbliche
 Käufer und erfolgt <strong>ohne Gewährleistung</strong>.</li>
<li>Der Ve
rkäufer übernimmt keine Haftung für Folgeschäden\, die nach dem Verkauf
 auftreten könnten.</li>
<li><strong>Alle gemachten Angaben beruhen auf de
m derzeitigen Kenntnisstand</strong>\; Irrtümer\, Schreibfehler oder unbea
bsichtigte Auslassungen sind vorbehalten.</li>
<li><strong>Übergabe</stron
g>: Bei vollständiger Bezahlung erfolgt die Übergabe des Motorrads mit al
len vorhandenen Papieren.</li>
</ul>
DTSTART:20260420T103453Z
SUMMARY:Vespa GTV 300 Sei Giorni
URL;VALUE=URI:https://www.motorrad-auktion.de/neufahrzeuge/vespa-gtv-300-se
i-giorni--id-28-item.html
DTEND:20260530T151211Z
DTSTAMP:20260422T230327Z
UID:69e9379fc0724
END:VEVENT
END:VCALENDAR