BEGIN:VCALENDAR
VERSION:2.0
PRODID:-//hacksw/handcal//NONSGML v1.0//EN
CALSCALE:GREGORIAN
BEGIN:VEVENT
LOCATION:30827
DESCRIPTION:<ol>
<li><strong> Artikelbeschreibung / Basisdaten</strong></li
>
</ol>
<ul>
<li><strong>Artikeltyp</strong>: Auspuffanlage Slip On</li>
<l
i><strong>Marke / Hersteller</strong>: Termignoni / Ducati</li>
<li><strong
>Modell / Kompatibilität</strong>: Passend für Ducati Diavel bis MY13 / D
iavel Strada bis MY14</li>
<li><strong>Artikelnummer / OEM-Nummer</strong>:
 <span> </span><span class="entry--content">96459810B</span></li>
<li><str
ong>Lieferumfang</strong>: komplett\, inkl. Montagematerial\, Steuergerät 
&amp\; Luftfilter wie abgebildet</li>
</ul>
<ol>
<li><strong> Zustand des A
rtikels</strong></li>
</ol>
<ul>
<li><strong>Zustandskategorie</strong>:
<u
l>
<li>neu</li>
<li>Lagerspuren vorhanden</li>
</ul>
</li>
</ul>
<ol>
<li><
strong> Spezifische Angaben</strong></li>
</ol>
<p><strong>Auspuffanlagen:<
/strong></p>
<ul>
<li>Zulassung: mit e-Nummer / homologiert für Straßenve
rkehr</li>
<li>Material: Edelstahl\, Carbon</li>
</ul>
<br />
<ol>
<li><str
ong> Hinweise für Käufer</strong></li>
</ol>
<ul>
<li>Der Artikel wird <s
trong>wie beschrieben</strong> und <strong>wie auf den Fotos dargestellt</s
trong> verkauft.</li>
<li>Aufgrund der längeren Lagerdauer können <strong
>unentdeckte Lagerspuren</strong> oder leichte optische Mängel nicht ausge
schlossen werden.</li>
<li>Bitte vor dem Kauf sicherstellen\, dass das Teil
 <strong>kompatibel</strong> zum eigenen Fahrzeug ist. Eine Rücknahme aus 
Kompatibilitätsgründen ist ausgeschlossen.</li>
</ul>
<ol>
<li><strong> A
uktions- &amp\; Verkaufsinformationen</strong></li>
</ol>
<ul>
<li><strong>
Versand</strong>: möglich</li>
<li><strong>Verpackungszustand</strong>: Or
iginalverpackung nicht vorhanden</li>
<li><strong>Montagehinweis</strong>: 
Einbau sollte idealerweise durch Fachpersonal erfolgen.</li>
</ul>
<ol>
<li
><strong> Rechtliches</strong></li>
</ol>
<ul>
<li><strong>Hinweis zur Sach
mängelhaftung / Gewährleistung:</strong><br />Der Verkauf erfolgt durch e
inen gewerblichen Händler.</li>
<li>Der Artikel wurde unterschiedlich lang
e eingelagert und kann daher <strong>typische Lagerspuren\, Alterungseffekt
e oder optische Beeinträchtigungen</strong> aufweisen. Diese stellen <str
ong>keine Funktionsmängel</strong> dar und sind <strong>kein Reklamationsg
rund</strong>\, sofern sie im Rahmen üblicher Lagerung auftreten.</li>
<li
>Soweit im Angebot nicht ausdrücklich zugesichert\, gilt der Artikel als <
strong>nicht getestet</strong>. <strong>Eine Funktionsgarantie besteht nur<
/strong>\, wenn diese ausdrücklich im Text steht.</li>
<li>Für Artikel\, 
die als <strong>defekt\, Bastlerware oder Teileträger</strong> verkauft we
rden\, besteht <strong>keine Gewährleistung auf die Funktionsfähigkeit</s
trong>\, auch nicht teilweise.</li>
<li>Der Verkauf richtet sich an <strong
>gewerbliche Käufer</strong>\, weshalb Gewährleistung &amp\; Sachmängelh
aftung <strong>vollständig ausgeschlossen </strong>werden.</li>
</ul>
<ul>

<li>Irrtümer\, Tippfehler und Änderungen vorbehalten.</li>
</ul>
DTSTART:20260420T103527Z
SUMMARY:Ducati Original Kit zugelassener Schalldämpfer Termignoni für Dia
vel 96459810B
URL;VALUE=URI:https://www.motorrad-auktion.de/zubehoer-teile/ducati-origina
l-kit-zugelassener-schalldaempfer-termignoni-fuer-diavel-96459810b--id-29-i
tem.html
DTEND:20260511T063501Z
DTSTAMP:20260422T211912Z
UID:69e91f301a4ae
END:VEVENT
END:VCALENDAR