BEGIN:VCALENDAR
VERSION:2.0
PRODID:-//hacksw/handcal//NONSGML v1.0//EN
CALSCALE:GREGORIAN
BEGIN:VEVENT
LOCATION:30827
DESCRIPTION:<p><strong>Motorradbeschreibung / Basisdaten</strong></p>
<ul>

<li><strong>Marke &amp\; Modell</strong>: Vespa Primavera 125 Color Vibe</l
i>
<li><strong>Baujahr</strong>: 2023</li>
<li><strong>Kilometerstand</stro
ng>: 0 km</li>
<li><strong>Anzahl Schlüssel</strong>: 2</li>
<li><strong>T
ÜV / HU &amp\; AU</strong>: ab Erstzulassung</li>
</ul>
<p><strong>Technis
che Daten</strong></p>
<ul>
<li><strong>Hubraum</strong>: 125 ccm</li>
<li>
<strong>Leistung</strong>: 8 kW / 11 PS</li>
<li><strong>Leergewicht</stron
g>: 132 kg</li>
<li><strong>Tankinhalt</strong>: 7\,5 Liter</li>
<li><stron
g>Rahmen- / Fahrgestellnummer (FIN)</strong>: ZAPMD110000044777</li>
</ul>

<br />
<p><strong>Besichtigungs- &amp\; Probefahrts-Informationen</strong>
</p>
<ul>
<li><strong>Händler &amp\; Standort</strong>: ITALMOTO Vertriebs
 GmbH / 30827 Garbsen</li>
<li><strong>Besichtigung</strong>: möglich nach
 Absprache</li>
<li><strong>Transport / Abholung</strong>: Abholung durch K
äufer bevorzugt\; Transportorganisation nach Absprache per Spedition.</li>

</ul>
<p><strong>Rechtliches &amp\; Haftungsausschluss</strong></p>
<ul>
<
li><strong>Geboten wird auf Basis “wie gesehen”</strong>: Das Motorrad 
wird im aktuellen Zustand mit geltender Herstellergarantie versteigert.</li
>
<li><strong>Irrtümer &amp\; Zwischenverkauf</strong>: Der Verkäufer beh
ält sich ausdrücklich vor\, das Fahrzeug vor Auktionsende zu verkaufen od
er das Inserat zurückzuziehen.</li>
<li>Der Verkauf richtet sich an gewerb
liche Käufer und erfolgt <strong>ohne Gewährleistung</strong>.</li>
<li>D
er Verkäufer übernimmt keine Haftung für Folgeschäden\, die nach dem Ve
rkauf auftreten könnten.</li>
<li><strong>Alle gemachten Angaben beruhen a
uf dem derzeitigen Kenntnisstand</strong>\; Irrtümer\, Schreibfehler oder 
unbeabsichtigte Auslassungen sind vorbehalten.</li>
<li><strong>Übergabe</
strong>: Bei vollständiger Bezahlung erfolgt die Übergabe des Motorrads m
it allen vorhandenen Papieren.</li>
</ul>
DTSTART:20260406T183002Z
SUMMARY:Vespa Primavera 125 Color Vibe
URL;VALUE=URI:https://www.motorrad-auktion.de/neufahrzeuge/vespa-primavera-
125-color-vibe--id-7-item.html
DTEND:20260606T200131Z
DTSTAMP:20260423T011028Z
UID:69e95564483eb
END:VEVENT
END:VCALENDAR