BEGIN:VCALENDAR
VERSION:2.0
PRODID:-//hacksw/handcal//NONSGML v1.0//EN
CALSCALE:GREGORIAN
BEGIN:VEVENT
LOCATION:30827
DESCRIPTION:<strong> Motorradbeschreibung / Basisdaten</strong><br />
<ul>

<li><strong>Marke &amp\; Modell</strong>: Triumph Rocket 3 Storm GT</li>
<l
i><strong>Baujahr / Erstzulassung</strong>: 2025 / 11.03.2025</li>
<li><str
ong>Kilometerstand</strong>: 1002 km</li>
<li><strong>Anzahl Vorbesitzer</s
trong>: 1</li>
<li><strong>Anzahl Schlüssel</strong>: 2</li>
<li><strong>S
erviceheft / Wartungsunterlagen</strong>: vorhanden</li>
<li><strong>TÜV /
 HU &amp\; AU</strong>: gültig bis 03.27</li>
</ul>
<strong> Technische Da
ten</strong><br />
<ul>
<li><strong>Hubraum</strong>: 2458 ccm</li>
<li><st
rong>Leistung</strong>: 134 kW / 183 PS</li>
<li><strong>Leergewicht</stron
g>: 317 kg</li>
<li><strong>Tankinhalt</strong>: 18 Liter</li>
<li><strong>
Rahmen- / Fahrgestellnummer (FIN)</strong>: SMTYBY1BJ5SBX1557 </li>
</ul>

<strong> Wartungs- &amp\; Zustandshistorie</strong><br />
<ul>
<li><strong
>Letzter Service</strong>: 1000 km Wartung bei im August 2025</li>
</ul>
<s
trong> Reifen &amp\; Antrieb</strong><br />
<ul>
<li><strong>Bereifung – 
vorne</strong>:
<ul>
<li>Reifenhersteller &amp\; Modell: Metzeler Cruisetec
</li>
<li>Profiltiefe (gemessen): 4\,5 mm</li>
<li>Alter des Reifens (DOT):
 37/23</li>
</ul>
</li>
<li><strong>Bereifung – hinten</strong>:
<ul>
<li
>Reifenhersteller &amp\; Modell: Metzeler Cruisetec</li>
<li>Profiltiefe (g
emessen):  6 mm</li>
<li>Alter des Reifens (DOT): 36/23</li>
</ul>
</li>
<
/ul>
<strong> Karosserie &amp\; Rahmenschäden</strong><br />
<ul>
<li><str
ong>Verkleidung</strong>: Kratzer im linken Spiegelglas</li>
<li><strong>Ta
nk</strong>: leichte Kratzer im Alustreifen</li>
</ul>
<strong> Unfall- / S
turzhistorie</strong><br />
<ul>
<li><strong>Unfälle</strong>: das Motorra
d war …
<ul>
<li>nicht in einen Unfall oder Umfaller verwickelt (keine st
rukturellen Schäden)</li>
</ul>
</li>
</ul>
<br /><strong> Besichtigungs- 
&amp\; Probefahrts-Informationen</strong><br />
<ul>
<li><strong>Händler &
amp\; Standort</strong>: ITALMOTO Vertriebs GmbH / 30827 Garbsen</li>
<li><
strong>Besichtigung</strong>: möglich nach Absprache</li>
<li><strong>Prob
efahrt</strong>: möglich unter folgenden Bedingungen: Vorlage Führerschei
n &amp\; Personalausweis\, 2.000€ Selbstbeteiligung im Schadensfall</li>

<li><strong>Transport / Abholung</strong>: Abholung durch Käufer bevorzugt
\; Transportorganisation nach Absprache per Spedition.</li>
</ul>
<strong> 
Rechtliches &amp\; Haftungsausschluss</strong><br />
<ul>
<li><strong>Gebot
en wird auf Basis “wie gesehen”</strong>: Das Motorrad wird im aktuelle
n Zustand versteigert\, ohne zusätzliche Garantien.</li>
<li><strong>Irrt
mer &amp\; Zwischenverkauf</strong>: Der Verkäufer behält sich ausdrück
lich vor\, das Fahrzeug vor Auktionsende zu verkaufen oder das Inserat zur
ckzuziehen.</li>
<li>Der Verkauf richtet sich an gewerbliche Käufer und e
rfolgt <strong>ohne Gewährleistung</strong>.</li>
<li>Der Verkäufer über
nimmt keine Haftung für Folgeschäden\, die nach dem Verkauf auftreten kö
nnten.</li>
<li><strong>Alle gemachten Angaben beruhen auf dem derzeitigen 
Kenntnisstand</strong>\; Irrtümer\, Schreibfehler oder unbeabsichtigte Aus
lassungen sind vorbehalten.</li>
<li>Handelt es sich bei dem Fahrzeug um ei
n angemeldetes Vorführmodell kann der <strong>Kilometerstand abweichen</st
rong>.</li>
<li><strong>Übergabe</strong>: Bei vollständiger Bezahlung er
folgt die Übergabe des Motorrads mit allen vorhandenen Papieren.</li>
</ul
>
DTSTART:20260408T123503Z
SUMMARY:Triumph Rocket 3 Storm GT
URL;VALUE=URI:https://www.motorrad-auktion.de/gebrauchtfahrzeuge/triumph-ro
cket-3-storm-gt--id-9-item.html
DTEND:20260429T110442Z
DTSTAMP:20260422T231142Z
UID:69e9398ed629f
END:VEVENT
END:VCALENDAR